BEGIN:VCALENDAR
VERSION:2.0
PRODID:-//Arnprior Radio Control Club - ECPv6.15.20//NONSGML v1.0//EN
CALSCALE:GREGORIAN
METHOD:PUBLISH
X-WR-CALNAME:Arnprior Radio Control Club
X-ORIGINAL-URL:https://arnpriorradiocontrolclub.com
X-WR-CALDESC:Events for Arnprior Radio Control Club
REFRESH-INTERVAL;VALUE=DURATION:PT1H
X-Robots-Tag:noindex
X-PUBLISHED-TTL:PT1H
BEGIN:VTIMEZONE
TZID:America/Toronto
BEGIN:DAYLIGHT
TZOFFSETFROM:-0500
TZOFFSETTO:-0400
TZNAME:EDT
DTSTART:20220313T070000
END:DAYLIGHT
BEGIN:STANDARD
TZOFFSETFROM:-0400
TZOFFSETTO:-0500
TZNAME:EST
DTSTART:20221106T060000
END:STANDARD
BEGIN:DAYLIGHT
TZOFFSETFROM:-0500
TZOFFSETTO:-0400
TZNAME:EDT
DTSTART:20230312T070000
END:DAYLIGHT
BEGIN:STANDARD
TZOFFSETFROM:-0400
TZOFFSETTO:-0500
TZNAME:EST
DTSTART:20231105T060000
END:STANDARD
BEGIN:DAYLIGHT
TZOFFSETFROM:-0500
TZOFFSETTO:-0400
TZNAME:EDT
DTSTART:20240310T070000
END:DAYLIGHT
BEGIN:STANDARD
TZOFFSETFROM:-0400
TZOFFSETTO:-0500
TZNAME:EST
DTSTART:20241103T060000
END:STANDARD
END:VTIMEZONE
BEGIN:VTIMEZONE
TZID:UTC
BEGIN:STANDARD
TZOFFSETFROM:+0000
TZOFFSETTO:+0000
TZNAME:UTC
DTSTART:20190101T000000
END:STANDARD
END:VTIMEZONE
BEGIN:VEVENT
DTSTART;TZID=America/Toronto:20230121T080000
DTEND;TZID=America/Toronto:20230121T170000
DTSTAMP:20260419T182338
CREATED:20230104T165801Z
LAST-MODIFIED:20230110T230525Z
UID:10000059-1674288000-1674320400@arnpriorradiocontrolclub.com
SUMMARY:Ottawa Valley RC Auction
DESCRIPTION:UPDATE: \nThis is a reminder message of the upcoming 1st annual Ottawa Valley Auction – Saturday Jan. 21st.. \n\nThe auction is at the St John the Evangelist Hall in Enniskerry.\n2540 Stagecoach Rd\, Osgoode\, ON K0A 2W0\nThe auction setup will be at 0900.\nThe auction will start at approx. 1000.\nIt will be a live auction with 2 auctioneers to keep things moving along.\nUpon a sale\, the seller and buyer will meet at the payment table.\nARCC will keep 10% of the sale amount.  Cash is preferred.  E-Transfers will be accepted.\nSellers will be allowed to set a reserve bid price on larger items.\nThere will be a 50/50 draw at the end of the auction.\nWe will have coffee and water for a nominal fee.\nPLEASE BRING A LUNCH.\nWe expect a large number of attendees – but we can’t predict.  The hall has chairs and tables.  If you have a folding chair\, perhaps bring it in your vehicle just in case.\nWe will start with small items and work our way up to the larger items.\n\nWe look forward to seeing you. \nThe ARCC \n———————————– \n  \nSave the date for the 1st Annual Ottawa Valley RC Auction. \nWe have secured a location for the auction on January 21\, 2023. Bring your well used and not so well used RC trinkets and enjoy some shenanigans with our head auctioneer Kevin Denton.  I am sure he will delight us all with his comedic descriptions of our beloved RC craft. \nRecommeded that you bring a lunch. \nWe will have coffee and some snacks for a nominal fee.  There will also be a 50/50 draw at the conclusion of the auction. \nThe doors will open at 9AM with the auction starting around 10AM.  The Community Hall is across the street from St John the Evangelist Church in Enniskerry.  (Between Greely and Osgoode.)  2540 Stagecoach Rd\, Osgoode\, ON K0A 2W0
URL:https://arnpriorradiocontrolclub.com/event/ottawa-valley-rc-auction/
LOCATION:St. John the Evangelist Church\, 2540 Stagecoach Rd\, Osgoode\, Ontario\, K0A2W0
CATEGORIES:buy and sell
ATTACH;FMTTYPE=image/jpeg:https://arnpriorradiocontrolclub.com/wp-content/uploads/2023/01/Ottawa-Valley-Auction.jpg
GEO:45.1991715;-75.5683933
X-APPLE-STRUCTURED-LOCATION;VALUE=URI;X-ADDRESS=St. John the Evangelist Church 2540 Stagecoach Rd Osgoode Ontario K0A2W0;X-APPLE-RADIUS=500;X-TITLE=2540 Stagecoach Rd:geo:-75.5683933,45.1991715
END:VEVENT
BEGIN:VEVENT
DTSTART;TZID=UTC:20200204T190000
DTEND;TZID=UTC:20200204T210000
DTSTAMP:20260419T182338
CREATED:20200116T203745Z
LAST-MODIFIED:20200116T204736Z
UID:10000047-1580842800-1580850000@arnpriorradiocontrolclub.com
SUMMARY:ORCC 47th Annual Auction
DESCRIPTION:Our fiends at the ORCC are hosting thier annual auction on Feb 4th at the McNabb Community Center. (180 Percy St\, Ottawa) \nRefreshments will be availble and a 50/50 draw to be held. Every year there are more excellent deals with an ever increasing attendance. Don’t miss out. \nThe auction is open to everyone so bring the dust collectors and turn them into cash. There’s always something for someone! \nORCC Silent Auction 2020
URL:https://arnpriorradiocontrolclub.com/event/orcc-47th-annual-auction/
LOCATION:Ontario
CATEGORIES:buy and sell
ATTACH;FMTTYPE=image/jpeg:https://arnpriorradiocontrolclub.com/wp-content/uploads/2020/01/OCRR-Auction-2020.jpg
END:VEVENT
END:VCALENDAR