BEGIN:VCALENDAR
VERSION:2.0
PRODID:-//Arnprior Radio Control Club - ECPv6.15.20//NONSGML v1.0//EN
CALSCALE:GREGORIAN
METHOD:PUBLISH
X-ORIGINAL-URL:https://arnpriorradiocontrolclub.com
X-WR-CALDESC:Events for Arnprior Radio Control Club
REFRESH-INTERVAL;VALUE=DURATION:PT1H
X-Robots-Tag:noindex
X-PUBLISHED-TTL:PT1H
BEGIN:VTIMEZONE
TZID:UTC
BEGIN:STANDARD
TZOFFSETFROM:+0000
TZOFFSETTO:+0000
TZNAME:UTC
DTSTART:20210101T000000
END:STANDARD
END:VTIMEZONE
BEGIN:VEVENT
DTSTART;TZID=UTC:20220423T090000
DTEND;TZID=UTC:20220423T140000
DTSTAMP:20260424T194258
CREATED:20220106T083920Z
LAST-MODIFIED:20220106T083920Z
UID:10000054-1650704400-1650722400@arnpriorradiocontrolclub.com
SUMMARY:Spring Clean Up and Meeting
DESCRIPTION:The date is set\, Sunday April 23rdth\, it’s spring clean up day at the ARCC. Bring your tools\, energy and things that fly. Time to get the field in tip top shape for the season we’ve been waiting for. Then fly some stuff! \nLunch will be provided. \nItems on the agenda: \n\nTop Dress\nSeed\nFertilize runway and pits\nDead fall clean up\nTurning circle clean up\nInstall New Flight Line Pilot Boxes\n\nThe semi annual meeting will also happen after lunch and the work is complete. \nIf you have any questions regarding what to bring or if you have any thing you want to donate to the field this year please email Kevin Denton: love2fly@hotmail.ca \nLook forward to seeing everyone out at the field this spring. \nARCC Executive
URL:https://arnpriorradiocontrolclub.com/event/spring-clean-up-and-meeting/
LOCATION:Arnprior Radio Control Club\, 5556 Logger's Way\, Arnprior\, Ontario\, K7S 3G7\, Canada
CATEGORIES:Club Business
ATTACH;FMTTYPE=image/jpeg:https://arnpriorradiocontrolclub.com/wp-content/uploads/2022/01/2022-Spring-Clean-Up-and-AGM.jpg
ORGANIZER;CN="Kevin Denton":MAILTO:love2fly@hotmail.ca
GEO:45.4522271;-76.2564907
X-APPLE-STRUCTURED-LOCATION;VALUE=URI;X-ADDRESS=Arnprior Radio Control Club 5556 Logger's Way Arnprior Ontario K7S 3G7 Canada;X-APPLE-RADIUS=500;X-TITLE=5556 Logger's Way:geo:-76.2564907,45.4522271
END:VEVENT
END:VCALENDAR