BEGIN:VCALENDAR
VERSION:2.0
PRODID:-//Arnprior Radio Control Club - ECPv6.15.20//NONSGML v1.0//EN
CALSCALE:GREGORIAN
METHOD:PUBLISH
X-ORIGINAL-URL:https://arnpriorradiocontrolclub.com
X-WR-CALDESC:Events for Arnprior Radio Control Club
REFRESH-INTERVAL;VALUE=DURATION:PT1H
X-Robots-Tag:noindex
X-PUBLISHED-TTL:PT1H
BEGIN:VTIMEZONE
TZID:UTC
BEGIN:STANDARD
TZOFFSETFROM:+0000
TZOFFSETTO:+0000
TZNAME:UTC
DTSTART:20210101T000000
END:STANDARD
END:VTIMEZONE
BEGIN:VEVENT
DTSTART;TZID=UTC:20220331T180000
DTEND;TZID=UTC:20220331T210000
DTSTAMP:20260424T191706
CREATED:20220323T033122Z
LAST-MODIFIED:20220323T033122Z
UID:10000055-1648749600-1648760400@arnpriorradiocontrolclub.com
SUMMARY:ARCC Pub Night 2022
DESCRIPTION:We have made a group reservation at the 3 Brewers Pub in Kanata ( Centrum ) at 6:00 pm on Thursday March 31st.  It’s a great way to get caught up with everyone and see what we have been building\, repairing and refurbishing for the 2022 flying season.  \nRobert will be also accepting memberships. e-transfers are preferred as the payment is recorded on our bank statement etransfer@arnpriorradiocontrolclub.com .  If necessary\, cash and cheques will be accepted.  \nPlease let Robert Aube (fly@arnpriorradiocontrolclub.com) know if you plan on attending so we can give the pub an approximate number. Tentatively booked for 30.  See you soon.
URL:https://arnpriorradiocontrolclub.com/event/arcc-pub-night-2022/
LOCATION:Three Brewers Pub\, 565 Kanata Ave\, Kanata\, Ontario\, K2T 1K5\, Canada
CATEGORIES:Pub Night
ATTACH;FMTTYPE=image/jpeg:https://arnpriorradiocontrolclub.com/wp-content/uploads/2018/12/3-Brewers-ARCC-Pub-Night-e1647991860125.jpg
ORGANIZER;CN="Kevin Denton":MAILTO:love2fly@hotmail.ca
GEO:45.3100669;-75.9082407
X-APPLE-STRUCTURED-LOCATION;VALUE=URI;X-ADDRESS=Three Brewers Pub 565 Kanata Ave Kanata Ontario K2T 1K5 Canada;X-APPLE-RADIUS=500;X-TITLE=565 Kanata Ave:geo:-75.9082407,45.3100669
END:VEVENT
END:VCALENDAR