BEGIN:VCALENDAR
VERSION:2.0
PRODID:-//Arnprior Radio Control Club - ECPv6.15.20//NONSGML v1.0//EN
CALSCALE:GREGORIAN
METHOD:PUBLISH
X-WR-CALNAME:Arnprior Radio Control Club
X-ORIGINAL-URL:https://arnpriorradiocontrolclub.com
X-WR-CALDESC:Events for Arnprior Radio Control Club
REFRESH-INTERVAL;VALUE=DURATION:PT1H
X-Robots-Tag:noindex
X-PUBLISHED-TTL:PT1H
BEGIN:VTIMEZONE
TZID:UTC
BEGIN:STANDARD
TZOFFSETFROM:+0000
TZOFFSETTO:+0000
TZNAME:UTC
DTSTART:20170101T000000
END:STANDARD
END:VTIMEZONE
BEGIN:VEVENT
DTSTART;TZID=UTC:20190428T080000
DTEND;TZID=UTC:20190428T170000
DTSTAMP:20260419T150415
CREATED:20181029T191944Z
LAST-MODIFIED:20190427T031338Z
UID:10000038-1556438400-1556470800@arnpriorradiocontrolclub.com
SUMMARY:Spring Clean Up
DESCRIPTION:The date is set\, Sunday April 28th\,  it’s spring clean up day at the ARCC. Bring your tools\, energy and things that fly. Time to get the field in tip top shape for the season we’ve been waiting for. Then fly some stuff! \nLunch will be provided. \nItems on the agenda: \n\nTop Dress\nSeed\nFertilize runway and pits\nDead fall clean up\nturning circle clean up\ninstall new wind socks\ndig out house holes\ninstall out houses\n\nThe semi annual meeting will also happen after lunch and the work is complete. \nIf you have any questions regarding what to bring or if you have any thing you want to donate to the field this year please email Dave Hammond: hammond.d57@gmail.com \nLook forward to seeing everyone out at the field this spring. \nARCC Executive
URL:https://arnpriorradiocontrolclub.com/event/spring-clean-up-2019/
LOCATION:Arnprior Radio Control Club\, 5556 Logger's Way\, Arnprior\, Ontario\, K7S 3G7\, Canada
CATEGORIES:Club Business
ATTACH;FMTTYPE=image/jpeg:https://arnpriorradiocontrolclub.com/wp-content/uploads/2018/04/Spring-Clean-Up-and-AGM-2.jpg
ORGANIZER;CN="Dave Hammond":MAILTO:hammond.d57@gmail.com
GEO:45.4522271;-76.2564907
X-APPLE-STRUCTURED-LOCATION;VALUE=URI;X-ADDRESS=Arnprior Radio Control Club 5556 Logger's Way Arnprior Ontario K7S 3G7 Canada;X-APPLE-RADIUS=500;X-TITLE=5556 Logger's Way:geo:-76.2564907,45.4522271
END:VEVENT
BEGIN:VEVENT
DTSTART;TZID=UTC:20190201T183000
DTEND;TZID=UTC:20190201T210000
DTSTAMP:20260419T150415
CREATED:20181204T212126Z
LAST-MODIFIED:20190111T201305Z
UID:10000042-1549045800-1549054800@arnpriorradiocontrolclub.com
SUMMARY:Pub Night
DESCRIPTION:We have reservations at 3 Brewers Pub in Kanata ( centrum ) at 6:30 pm on Friday February 1.  It has been well attended the last 3 years. Its a great way to get caught up with everyone and see what we have been building\, repairing and refurbishing for next flying season. Dan will be also accepting memberships. \nLet Mike Ingram know if you plan on attending so we can give the pub some approx. number.  Tentatively booked for 50\, yes last year we needed it! \nHope to see you there. \nARCC Team
URL:https://arnpriorradiocontrolclub.com/event/pub-night-2019/
LOCATION:Three Brewers Pub\, 565 Kanata Ave\, Kanata\, Ontario\, K2T 1K5\, Canada
CATEGORIES:Club Business
ATTACH;FMTTYPE=image/jpeg:https://arnpriorradiocontrolclub.com/wp-content/uploads/2018/12/3-Brewers-ARCC-Pub-Night-e1647991860125.jpg
GEO:45.3100669;-75.9082407
X-APPLE-STRUCTURED-LOCATION;VALUE=URI;X-ADDRESS=Three Brewers Pub 565 Kanata Ave Kanata Ontario K2T 1K5 Canada;X-APPLE-RADIUS=500;X-TITLE=565 Kanata Ave:geo:-75.9082407,45.3100669
END:VEVENT
BEGIN:VEVENT
DTSTART;TZID=UTC:20181027T090000
DTEND;TZID=UTC:20181027T120000
DTSTAMP:20260419T150415
CREATED:20180109T190300Z
LAST-MODIFIED:20180109T190720Z
UID:10000034-1540630800-1540641600@arnpriorradiocontrolclub.com
SUMMARY:Fall Clean Up and Club Meeting
DESCRIPTION:Work party to prep the field for closing for winter.  Work starts at 9:00 – 12:00 the morning. A BBQ lunch will be served. \nPlease contact Dave Hammond for what to bring.  hammond.d57@gmail.com \nClub business meeting will happen after lunch and then some flying after.
URL:https://arnpriorradiocontrolclub.com/event/fall-clean-up-and-club-meeting/
LOCATION:Arnprior Radio Control Club\, 5556 Logger's Way\, Arnprior\, Ontario\, K7S 3G7\, Canada
CATEGORIES:Club Business
ATTACH;FMTTYPE=image/jpeg:https://arnpriorradiocontrolclub.com/wp-content/uploads/2017/11/ARCC-Fall-Clean-Up-and-AGM-2017-9-e1515506548664.jpg
ORGANIZER;CN="Dave Hammond":MAILTO:hammond.d57@gmail.com
GEO:45.4522271;-76.2564907
X-APPLE-STRUCTURED-LOCATION;VALUE=URI;X-ADDRESS=Arnprior Radio Control Club 5556 Logger's Way Arnprior Ontario K7S 3G7 Canada;X-APPLE-RADIUS=500;X-TITLE=5556 Logger's Way:geo:-76.2564907,45.4522271
END:VEVENT
BEGIN:VEVENT
DTSTART;VALUE=DATE:20180923
DTEND;VALUE=DATE:20180924
DTSTAMP:20260419T150415
CREATED:20180826T004358Z
LAST-MODIFIED:20190111T191010Z
UID:10000037-1537660800-1537747199@arnpriorradiocontrolclub.com
SUMMARY:Family Fun Fly and Pot Luck
DESCRIPTION:The ARCC’s family fun fly and pot luck is one of our most successful and most fun events year after year. Don’t miss out on the amazing food and flying all day at the club. It’s a great opportunity to show case our hobby to family and friends. Not to mention the pot luck style food is to die for. Each year the members out do themselves with even better mid day meal. \n\n9 am Flying starts\n12 pm Pot Luck\n\nDon’t forget to bring your trainers as in the past we do a Kadet Krazy flight with multiple trainers in the air at one time. Super fun as a pilot and for spectators.  There maybe even a few combat planes or two 🙂 \nAny questions please reach out to Dave Asquini or Dave Hammond on what to bring for the Pot Luck. \nSee you at the field.
URL:https://arnpriorradiocontrolclub.com/event/family-fun-fly-and-pot-luck/
LOCATION:Arnprior Radio Control Club\, 5556 Logger's Way\, Arnprior\, Ontario\, K7S 3G7\, Canada
CATEGORIES:Club Business,Fun Fly
ATTACH;FMTTYPE=image/jpeg:https://arnpriorradiocontrolclub.com/wp-content/uploads/2018/08/Family-Fun-Fly-Arnprior-Radio-Control-Club-2.jpg
ORGANIZER;CN="Dave Hammond":MAILTO:hammond.d57@gmail.com
GEO:45.4522271;-76.2564907
X-APPLE-STRUCTURED-LOCATION;VALUE=URI;X-ADDRESS=Arnprior Radio Control Club 5556 Logger's Way Arnprior Ontario K7S 3G7 Canada;X-APPLE-RADIUS=500;X-TITLE=5556 Logger's Way:geo:-76.2564907,45.4522271
END:VEVENT
BEGIN:VEVENT
DTSTART;TZID=UTC:20180908T093000
DTEND;TZID=UTC:20180909T170000
DTSTAMP:20260419T150415
CREATED:20180116T235919Z
LAST-MODIFIED:20180117T001010Z
UID:10000035-1536399000-1536512400@arnpriorradiocontrolclub.com
SUMMARY:Glider Aero Tow
DESCRIPTION:The Greater Ottawa Aero-Tow group will host its annual aero-tow fun fly at the Arnprior RC Club field on 8 and 9 September 2018. Flying will begin at 09:30 each day\, weather permitting\, but talking about aero-towing will begin much earlier\, rain or shine. While this is a pretty informal get-together\, current MAAC or AMA membership is required. Spectators are encouraged to drop by to chat\, take some pictures or just hang out. Coffee\, lunch\, and plenty of water will be provided for a registration fee of $15.00 for the weekend and Saturday evening will feature a no-host dinner gathering – where more talking about flying (and other things) can take place. \nThe Arnprior RC Club field is located a half-hour west of Ottawa\, Ontario\, Canada and features a 750 foot-long grass runway with plenty of surrounding bailout area. The field and the local tugs easily handle 6-meter sailplanes. \nFor more information or directions\, please contact Aurele.Alain at Aurele.Alain@gmail.com.
URL:https://arnpriorradiocontrolclub.com/event/glider-aero-tow/
LOCATION:Arnprior Radio Control Club\, 5556 Logger's Way\, Arnprior\, Ontario\, K7S 3G7\, Canada
CATEGORIES:Fun Fly,MAAC,Soaring
ATTACH;FMTTYPE=image/jpeg:https://arnpriorradiocontrolclub.com/wp-content/uploads/2016/05/Ottawa-Aero-Tow.jpg
ORGANIZER;CN="Aurele Alain":MAILTO:Aurele.Alain@gmail.com
GEO:45.4522271;-76.2564907
X-APPLE-STRUCTURED-LOCATION;VALUE=URI;X-ADDRESS=Arnprior Radio Control Club 5556 Logger's Way Arnprior Ontario K7S 3G7 Canada;X-APPLE-RADIUS=500;X-TITLE=5556 Logger's Way:geo:-76.2564907,45.4522271
END:VEVENT
BEGIN:VEVENT
DTSTART;TZID=UTC:20180804T083000
DTEND;TZID=UTC:20180805T170000
DTSTAMP:20260419T150415
CREATED:20180108T064539Z
LAST-MODIFIED:20180109T191426Z
UID:10000033-1533371400-1533488400@arnpriorradiocontrolclub.com
SUMMARY:Zone G Fun Fly
DESCRIPTION:Come and join us for a weekend of fun\, friends and fellowship. Arnprior Radio Control Club hosts this amazing event again this year. Their 800 foot grass strip field with the sun at your back and sheltered pilot area is the best. BBQ lunch available as well as a supper meal on Saturday. Pilot door prizes on Saturday. \nSee you all there.
URL:https://arnpriorradiocontrolclub.com/event/zone-g-fun-fly/
LOCATION:Arnprior Radio Control Club\, 5556 Logger's Way\, Arnprior\, Ontario\, K7S 3G7\, Canada
CATEGORIES:Fun Fly,MAAC
ATTACH;FMTTYPE=image/jpeg:https://arnpriorradiocontrolclub.com/wp-content/uploads/2018/01/MAAC-Zone-G-Fun-Fly-2018.jpg
GEO:45.4522271;-76.2564907
X-APPLE-STRUCTURED-LOCATION;VALUE=URI;X-ADDRESS=Arnprior Radio Control Club 5556 Logger's Way Arnprior Ontario K7S 3G7 Canada;X-APPLE-RADIUS=500;X-TITLE=5556 Logger's Way:geo:-76.2564907,45.4522271
END:VEVENT
BEGIN:VEVENT
DTSTART;TZID=UTC:20180525T120000
DTEND;TZID=UTC:20180527T120000
DTSTAMP:20260419T150415
CREATED:20180107T111614Z
LAST-MODIFIED:20180117T000842Z
UID:10000031-1527249600-1527422400@arnpriorradiocontrolclub.com
SUMMARY:Huckin' In The Valley
DESCRIPTION:The Arnprior Radio Control Club is hosting the 3rd Annual Huckin’ In the Valley for all of you guys out there who love to “Huck Around” with your aerobatic model. Come join us for lots 3D fun\, participate in the famed “Cluster Huck”\, and other shenanigans at the club’s large grass field nestled in the idyllic forests of eastern Ontario. Plan to stay for dinner featuring a number of surprise delicacies – all made “Arnprior Style”.  Later\, we’ll put on the lights for some night time 3D fun! \nWe have loads of space for campers and RVs of all sizes (no hook ups) and club members will be on hand to welcome arriving participants on Friday May 27 for test flights and general warm up Tom-foolery.  Early arrivals are welcome! \nVisit the event website for details\, registration\, and t-shirt orders. www.huckininthevalley.com.
URL:https://arnpriorradiocontrolclub.com/event/huckin-in-the-valley/
LOCATION:Arnprior Radio Control Club\, 5556 Logger's Way\, Arnprior\, Ontario\, K7S 3G7\, Canada
CATEGORIES:3D,Fun Fly,Heli,MAAC
ATTACH;FMTTYPE=image/jpeg:https://arnpriorradiocontrolclub.com/wp-content/uploads/2018/01/2018-Huckin-In-The-Valley.jpg
ORGANIZER;CN="Matt McGuire":MAILTO:matt@h2oconsulting.ca
GEO:45.4522271;-76.2564907
X-APPLE-STRUCTURED-LOCATION;VALUE=URI;X-ADDRESS=Arnprior Radio Control Club 5556 Logger's Way Arnprior Ontario K7S 3G7 Canada;X-APPLE-RADIUS=500;X-TITLE=5556 Logger's Way:geo:-76.2564907,45.4522271
END:VEVENT
BEGIN:VEVENT
DTSTART;TZID=UTC:20180512T090000
DTEND;TZID=UTC:20180512T170000
DTSTAMP:20260419T150415
CREATED:20180108T063902Z
LAST-MODIFIED:20191217T173213Z
UID:10000032-1526115600-1526144400@arnpriorradiocontrolclub.com
SUMMARY:Giant Scale Warm-Up
DESCRIPTION:This is our 11th annual Giant Scale Warm-Up an what a better way to start your year than to have a relaxed day of flying your new or tried-and-true Giant Scale plane. Our 800 foot grass strip field with the sun at your back and sheltered pilot area is the best way to tune up your flying skills or maybe share some helpful tips with others for their first flights. As always\, there will be a BBQ lunch available as well as a few prizes at the end of the day. \nWhat qualifies as Giant Scale: Monoplane of 80” or greater Biplane of 60” or greater Jets of 140” combined length and wingspan or greater Any plane that is 1/4 scale or greater. For example\, many aerobatic planes like Yaks and Extras of 72” would also qualify. \nAlso check out www.GiantScaleCanada.com for more information \nSpectators are always welcome.
URL:https://arnpriorradiocontrolclub.com/event/giant-scale-warm-up/
LOCATION:Arnprior Radio Control Club\, 5556 Logger's Way\, Arnprior\, Ontario\, K7S 3G7\, Canada
CATEGORIES:Fun Fly,Giant Scale,MAAC
ATTACH;FMTTYPE=image/jpeg:https://arnpriorradiocontrolclub.com/wp-content/uploads/2018/01/Giant-Scale-Warm-Up.jpg
ORGANIZER;CN="Mark Winstanley":MAILTO:rusty505050@gmail.com
GEO:45.4522271;-76.2564907
X-APPLE-STRUCTURED-LOCATION;VALUE=URI;X-ADDRESS=Arnprior Radio Control Club 5556 Logger's Way Arnprior Ontario K7S 3G7 Canada;X-APPLE-RADIUS=500;X-TITLE=5556 Logger's Way:geo:-76.2564907,45.4522271
END:VEVENT
BEGIN:VEVENT
DTSTART;TZID=UTC:20180428T090000
DTEND;TZID=UTC:20180428T120000
DTSTAMP:20260419T150415
CREATED:20180107T105813Z
LAST-MODIFIED:20180107T110259Z
UID:10000030-1524906000-1524916800@arnpriorradiocontrolclub.com
SUMMARY:Spring Clean Up
DESCRIPTION:The date is set\, it’s spring clean up day at the ARCC. Bring your tools\, energy and things that fly. Time to get the field in tip top shape for the season we’ve been waiting for. Then fly some stuff! \nItems on the agenda: \n\nTop Dress\nSeed\nFertilize runway and pits\nDead fall clean up\nturning circle clean up\ninstall new wind socks\n\nThe semi annual meeting will also happen after lunch and the work is complete. \nIf you have any questions regarding what to bring or if you have any thing you want to donate to the field this year please email Dave Hammond: hammond.d57@gmail.com or John Weekes drjohnweekes1@gmail.com \nLook forward to seeing everyone out at the field this spring
URL:https://arnpriorradiocontrolclub.com/event/spring-clean-up/
LOCATION:Arnprior Radio Control Club\, 5556 Logger's Way\, Arnprior\, Ontario\, K7S 3G7\, Canada
CATEGORIES:Club Business
ATTACH;FMTTYPE=image/jpeg:https://arnpriorradiocontrolclub.com/wp-content/uploads/2016/10/Fall-Clean-Up-ARCC.jpg
ORGANIZER;CN="John Weekes":MAILTO:drjohnweekes1@gmail.com
GEO:45.4522271;-76.2564907
X-APPLE-STRUCTURED-LOCATION;VALUE=URI;X-ADDRESS=Arnprior Radio Control Club 5556 Logger's Way Arnprior Ontario K7S 3G7 Canada;X-APPLE-RADIUS=500;X-TITLE=5556 Logger's Way:geo:-76.2564907,45.4522271
END:VEVENT
BEGIN:VEVENT
DTSTART;TZID=UTC:20180202T180000
DTEND;TZID=UTC:20180202T203000
DTSTAMP:20260419T150415
CREATED:20180118T014325Z
LAST-MODIFIED:20180118T014706Z
UID:10000036-1517594400-1517603400@arnpriorradiocontrolclub.com
SUMMARY:Pub Night
DESCRIPTION:We have reservations at 3 Brewers Pub in Kanata ( centrum ) at 6:30 pm on Friday February 2.  It has been well attended the last 2 years. Its a great way to get caught up with everyone and see what we have been building\, repairing and refurbing for next flying season. Dan will be also accepting memberships. \nLet me know if you plan on attending so I can give the pub some approx. number. \nHope to see you there. \nDave Asquini
URL:https://arnpriorradiocontrolclub.com/event/pub-night/
LOCATION:Three Brewers Pub\, 565 Kanata Ave\, Kanata\, Ontario\, K2T 1K5\, Canada
CATEGORIES:Pub Night
ATTACH;FMTTYPE=image/jpeg:https://arnpriorradiocontrolclub.com/wp-content/uploads/2016/01/3-Brewers-Kanata.jpg
GEO:45.3100669;-75.9082407
X-APPLE-STRUCTURED-LOCATION;VALUE=URI;X-ADDRESS=Three Brewers Pub 565 Kanata Ave Kanata Ontario K2T 1K5 Canada;X-APPLE-RADIUS=500;X-TITLE=565 Kanata Ave:geo:-75.9082407,45.3100669
END:VEVENT
END:VCALENDAR