BEGIN:VCALENDAR
VERSION:2.0
PRODID:-//Arnprior Radio Control Club - ECPv6.15.20//NONSGML v1.0//EN
CALSCALE:GREGORIAN
METHOD:PUBLISH
X-WR-CALNAME:Arnprior Radio Control Club
X-ORIGINAL-URL:https://arnpriorradiocontrolclub.com
X-WR-CALDESC:Events for Arnprior Radio Control Club
REFRESH-INTERVAL;VALUE=DURATION:PT1H
X-Robots-Tag:noindex
X-PUBLISHED-TTL:PT1H
BEGIN:VTIMEZONE
TZID:UTC
BEGIN:STANDARD
TZOFFSETFROM:+0000
TZOFFSETTO:+0000
TZNAME:UTC
DTSTART:20170101T000000
END:STANDARD
END:VTIMEZONE
BEGIN:VEVENT
DTSTART;TZID=UTC:20210925T080000
DTEND;TZID=UTC:20210926T120000
DTSTAMP:20260419T163602
CREATED:20210915T180101Z
LAST-MODIFIED:20210921T065322Z
UID:10000051-1632556800-1632657600@arnpriorradiocontrolclub.com
SUMMARY:Greater Ottawa Aero-Tow
DESCRIPTION:Greater Ottawa Aero-tow hosted by the Arnprior RC Club\, Saturday September 25th and Sunday September 26th\, 2021\nJoin us for 2 days of aero-towing.  We will have various electric and gas tow planes onsite for both days including a number of 100cc tow planes.
URL:https://arnpriorradiocontrolclub.com/event/10587/
LOCATION:Arnprior Radio Control Club\, 5556 Logger's Way\, Arnprior\, Ontario\, K7S 3G7\, Canada
CATEGORIES:Fun Fly,MAAC,Soaring
ATTACH;FMTTYPE=image/jpeg:https://arnpriorradiocontrolclub.com/wp-content/uploads/2014/06/ARCC-Aero-Tow-Event-1-e1630504822301.jpg
ORGANIZER;CN="Aurele Alain":MAILTO:Aurele.Alain@gmail.com
GEO:45.4522271;-76.2564907
X-APPLE-STRUCTURED-LOCATION;VALUE=URI;X-ADDRESS=Arnprior Radio Control Club 5556 Logger's Way Arnprior Ontario K7S 3G7 Canada;X-APPLE-RADIUS=500;X-TITLE=5556 Logger's Way:geo:-76.2564907,45.4522271
END:VEVENT
BEGIN:VEVENT
DTSTART;TZID=UTC:20190907T080000
DTEND;TZID=UTC:20190908T170000
DTSTAMP:20260419T163602
CREATED:20181128T011056Z
LAST-MODIFIED:20181128T011526Z
UID:10000040-1567843200-1567962000@arnpriorradiocontrolclub.com
SUMMARY:Greater Ottawa Aero-tow
DESCRIPTION:Greater Ottawa Aero-tow hosted by the Arnprior RC Club\, Saturday September 7th and Sunday September 8th\, 2019\nJoin us for 2 days of aero-towing.  We will have various electric and gas tow planes onsite for both days including a number of 100cc tow planes. \nDry camping on-site is permitted (no services). Entry fee is $20.  Lunch will be arranged.
URL:https://arnpriorradiocontrolclub.com/event/greater-ottawa-aero-tow/
LOCATION:Arnprior Radio Control Club\, 5556 Logger's Way\, Arnprior\, Ontario\, K7S 3G7\, Canada
CATEGORIES:MAAC,Soaring
ATTACH;FMTTYPE=image/jpeg:https://arnpriorradiocontrolclub.com/wp-content/uploads/2014/06/Aero-Tow-1.jpg
ORGANIZER;CN="Aurele Alain":MAILTO:Aurele.Alain@gmail.com
GEO:45.4522271;-76.2564907
X-APPLE-STRUCTURED-LOCATION;VALUE=URI;X-ADDRESS=Arnprior Radio Control Club 5556 Logger's Way Arnprior Ontario K7S 3G7 Canada;X-APPLE-RADIUS=500;X-TITLE=5556 Logger's Way:geo:-76.2564907,45.4522271
END:VEVENT
BEGIN:VEVENT
DTSTART;TZID=UTC:20180908T093000
DTEND;TZID=UTC:20180909T170000
DTSTAMP:20260419T163602
CREATED:20180116T235919Z
LAST-MODIFIED:20180117T001010Z
UID:10000035-1536399000-1536512400@arnpriorradiocontrolclub.com
SUMMARY:Glider Aero Tow
DESCRIPTION:The Greater Ottawa Aero-Tow group will host its annual aero-tow fun fly at the Arnprior RC Club field on 8 and 9 September 2018. Flying will begin at 09:30 each day\, weather permitting\, but talking about aero-towing will begin much earlier\, rain or shine. While this is a pretty informal get-together\, current MAAC or AMA membership is required. Spectators are encouraged to drop by to chat\, take some pictures or just hang out. Coffee\, lunch\, and plenty of water will be provided for a registration fee of $15.00 for the weekend and Saturday evening will feature a no-host dinner gathering – where more talking about flying (and other things) can take place. \nThe Arnprior RC Club field is located a half-hour west of Ottawa\, Ontario\, Canada and features a 750 foot-long grass runway with plenty of surrounding bailout area. The field and the local tugs easily handle 6-meter sailplanes. \nFor more information or directions\, please contact Aurele.Alain at Aurele.Alain@gmail.com.
URL:https://arnpriorradiocontrolclub.com/event/glider-aero-tow/
LOCATION:Arnprior Radio Control Club\, 5556 Logger's Way\, Arnprior\, Ontario\, K7S 3G7\, Canada
CATEGORIES:Fun Fly,MAAC,Soaring
ATTACH;FMTTYPE=image/jpeg:https://arnpriorradiocontrolclub.com/wp-content/uploads/2016/05/Ottawa-Aero-Tow.jpg
ORGANIZER;CN="Aurele Alain":MAILTO:Aurele.Alain@gmail.com
GEO:45.4522271;-76.2564907
X-APPLE-STRUCTURED-LOCATION;VALUE=URI;X-ADDRESS=Arnprior Radio Control Club 5556 Logger's Way Arnprior Ontario K7S 3G7 Canada;X-APPLE-RADIUS=500;X-TITLE=5556 Logger's Way:geo:-76.2564907,45.4522271
END:VEVENT
END:VCALENDAR