BEGIN:VCALENDAR
VERSION:2.0
PRODID:-//Arnprior Radio Control Club - ECPv6.15.20//NONSGML v1.0//EN
CALSCALE:GREGORIAN
METHOD:PUBLISH
X-ORIGINAL-URL:https://arnpriorradiocontrolclub.com
X-WR-CALDESC:Events for Arnprior Radio Control Club
REFRESH-INTERVAL;VALUE=DURATION:PT1H
X-Robots-Tag:noindex
X-PUBLISHED-TTL:PT1H
BEGIN:VTIMEZONE
TZID:UTC
BEGIN:STANDARD
TZOFFSETFROM:+0000
TZOFFSETTO:+0000
TZNAME:UTC
DTSTART:20170101T000000
END:STANDARD
END:VTIMEZONE
BEGIN:VEVENT
DTSTART;VALUE=DATE:20220527
DTEND;VALUE=DATE:20220530
DTSTAMP:20260419T163919
CREATED:20210920T193133Z
LAST-MODIFIED:20220106T015624Z
UID:10000053-1653609600-1653868799@arnpriorradiocontrolclub.com
SUMMARY:Huckin' In The Valley
DESCRIPTION:The Arnprior Radio Control Club is hosting the 6th Annual Huckin’ In the Valley for all of you guys out there who love to “Huck Around” with your aerobatic model. Come join us for lots 3D fun\, participate in the famed “Cluster Huck”\, and other shenanigans at the club’s large grass field nestled in the idyllic forests of eastern Ontario. Plan to stay for dinner featuring a number of surprise delicacies – all made “Arnprior Style”. Later\, we’ll put on the lights for some night time 3D fun! \nWe have loads of space for campers and RVs of all sizes (no hook ups) and club members will be on hand to welcome arriving participantsfor test flights and general warm up Tom-foolery. Early arrivals are welcome\,some arrive on Tuesday! \nVisit the event website for details\, registration\, and t-shirt orders. www.huckininthevalley.com. \n    	\n        Event Info and Register
URL:https://arnpriorradiocontrolclub.com/event/huckin-in-the-valley-2021/
LOCATION:Arnprior Radio Control Club\, 5556 Logger's Way\, Arnprior\, Ontario\, K7S 3G7\, Canada
CATEGORIES:3D,Fun Fly,Giant Scale,MAAC
ATTACH;FMTTYPE=image/jpeg:https://arnpriorradiocontrolclub.com/wp-content/uploads/2019/10/2019-Huckin-In-the-Valley-3D-Event-Canada.jpg
ORGANIZER;CN="Dave Hammond":MAILTO:hammond.d57@gmail.com
GEO:45.4522271;-76.2564907
X-APPLE-STRUCTURED-LOCATION;VALUE=URI;X-ADDRESS=Arnprior Radio Control Club 5556 Logger's Way Arnprior Ontario K7S 3G7 Canada;X-APPLE-RADIUS=500;X-TITLE=5556 Logger's Way:geo:-76.2564907,45.4522271
END:VEVENT
BEGIN:VEVENT
DTSTART;TZID=UTC:20180525T120000
DTEND;TZID=UTC:20180527T120000
DTSTAMP:20260419T163919
CREATED:20180107T111614Z
LAST-MODIFIED:20180117T000842Z
UID:10000031-1527249600-1527422400@arnpriorradiocontrolclub.com
SUMMARY:Huckin' In The Valley
DESCRIPTION:The Arnprior Radio Control Club is hosting the 3rd Annual Huckin’ In the Valley for all of you guys out there who love to “Huck Around” with your aerobatic model. Come join us for lots 3D fun\, participate in the famed “Cluster Huck”\, and other shenanigans at the club’s large grass field nestled in the idyllic forests of eastern Ontario. Plan to stay for dinner featuring a number of surprise delicacies – all made “Arnprior Style”.  Later\, we’ll put on the lights for some night time 3D fun! \nWe have loads of space for campers and RVs of all sizes (no hook ups) and club members will be on hand to welcome arriving participants on Friday May 27 for test flights and general warm up Tom-foolery.  Early arrivals are welcome! \nVisit the event website for details\, registration\, and t-shirt orders. www.huckininthevalley.com.
URL:https://arnpriorradiocontrolclub.com/event/huckin-in-the-valley/
LOCATION:Arnprior Radio Control Club\, 5556 Logger's Way\, Arnprior\, Ontario\, K7S 3G7\, Canada
CATEGORIES:3D,Fun Fly,Heli,MAAC
ATTACH;FMTTYPE=image/jpeg:https://arnpriorradiocontrolclub.com/wp-content/uploads/2018/01/2018-Huckin-In-The-Valley.jpg
ORGANIZER;CN="Matt McGuire":MAILTO:matt@h2oconsulting.ca
GEO:45.4522271;-76.2564907
X-APPLE-STRUCTURED-LOCATION;VALUE=URI;X-ADDRESS=Arnprior Radio Control Club 5556 Logger's Way Arnprior Ontario K7S 3G7 Canada;X-APPLE-RADIUS=500;X-TITLE=5556 Logger's Way:geo:-76.2564907,45.4522271
END:VEVENT
END:VCALENDAR