BEGIN:VCALENDAR
VERSION:2.0
PRODID:-//Arnprior Radio Control Club - ECPv6.15.20//NONSGML v1.0//EN
CALSCALE:GREGORIAN
METHOD:PUBLISH
X-ORIGINAL-URL:https://arnpriorradiocontrolclub.com
X-WR-CALDESC:Events for Arnprior Radio Control Club
REFRESH-INTERVAL;VALUE=DURATION:PT1H
X-Robots-Tag:noindex
X-PUBLISHED-TTL:PT1H
BEGIN:VTIMEZONE
TZID:UTC
BEGIN:STANDARD
TZOFFSETFROM:+0000
TZOFFSETTO:+0000
TZNAME:UTC
DTSTART:20190101T000000
END:STANDARD
END:VTIMEZONE
BEGIN:VTIMEZONE
TZID:America/New_York
BEGIN:DAYLIGHT
TZOFFSETFROM:-0500
TZOFFSETTO:-0400
TZNAME:EDT
DTSTART:20190310T070000
END:DAYLIGHT
BEGIN:STANDARD
TZOFFSETFROM:-0400
TZOFFSETTO:-0500
TZNAME:EST
DTSTART:20191103T060000
END:STANDARD
BEGIN:DAYLIGHT
TZOFFSETFROM:-0500
TZOFFSETTO:-0400
TZNAME:EDT
DTSTART:20200308T070000
END:DAYLIGHT
BEGIN:STANDARD
TZOFFSETFROM:-0400
TZOFFSETTO:-0500
TZNAME:EST
DTSTART:20201101T060000
END:STANDARD
BEGIN:DAYLIGHT
TZOFFSETFROM:-0500
TZOFFSETTO:-0400
TZNAME:EDT
DTSTART:20210314T070000
END:DAYLIGHT
BEGIN:STANDARD
TZOFFSETFROM:-0400
TZOFFSETTO:-0500
TZNAME:EST
DTSTART:20211107T060000
END:STANDARD
END:VTIMEZONE
BEGIN:VEVENT
DTSTART;TZID=UTC:20201003T090000
DTEND;TZID=UTC:20201003T120000
DTSTAMP:20260419T182804
CREATED:20200916T032015Z
LAST-MODIFIED:20200916T032324Z
UID:10000048-1601715600-1601726400@arnpriorradiocontrolclub.com
SUMMARY:Fall Meeting
DESCRIPTION:Just a gentle reminder that the fall meeting has been rescheduled for Sat Oct 3/20 staring at 09:00.\nPlans for the day will focus around two main items; \n1) Replacement of the low fence from our trailer to the tree line.\n2) Some tree trimming along the road and parking lot if we have\n    time and enough able bodies.\n3) Business meeting after the work party or around 12:00 as time\n    will dictate along with the general elections for any vacant\n    executive positions. \nPlease advise any member of the executive with any new items or proposals that need to be discussed with the attending club members. \nDue to Covid 19 restrictions\, please bring a lunch as we won’t be able to cater for obvious reasons\, the BBQ will be available.\nARCC Executive
URL:https://arnpriorradiocontrolclub.com/event/fall-meeting/
LOCATION:Arnprior Radio Control Club\, 5556 Logger's Way\, Arnprior\, Ontario\, K7S 3G7\, Canada
CATEGORIES:Club Business
ATTACH;FMTTYPE=image/jpeg:https://arnpriorradiocontrolclub.com/wp-content/uploads/2020/09/2020-Fall-Clean-Up-and-AGM.jpg
ORGANIZER;CN="Mike Ingham":MAILTO:oxenard@gmail.com
GEO:45.4522271;-76.2564907
X-APPLE-STRUCTURED-LOCATION;VALUE=URI;X-ADDRESS=Arnprior Radio Control Club 5556 Logger's Way Arnprior Ontario K7S 3G7 Canada;X-APPLE-RADIUS=500;X-TITLE=5556 Logger's Way:geo:-76.2564907,45.4522271
END:VEVENT
BEGIN:VEVENT
DTSTART;TZID=America/New_York:20200131T183000
DTEND;TZID=America/New_York:20200131T223000
DTSTAMP:20260419T182804
CREATED:20191213T054518Z
LAST-MODIFIED:20191217T173520Z
UID:10000046-1580495400-1580509800@arnpriorradiocontrolclub.com
SUMMARY:ARCC Pub Night 2020
DESCRIPTION:We have made a group reservation at the 3 Brewers Pub in Kanata ( Centrum ) at 6:30 pm on Friday January 31st. It has been well attended the last 4 years. It’s a great way to get caught up with everyone and see what we have been building\, repairing and refurbishing for the 2020 flying season. Robert will be also accepting memberships. e-transfers are preferred as the payment is recorded on our bank statement.  If necessary\, cash and cheques will be accepted.  There”s a rumour that those members who have already paid or are paying for their 2020 membership at Pub Night will be entered into a door prize draw. \nPlease let Mike Ingham (oxenard@gmail.com) know if you plan on attending so we can give the pub an approximate number. Tentatively booked for 30\, yes last year we needed it!  See you soon.
URL:https://arnpriorradiocontrolclub.com/event/arcc-pub-night-2020/
LOCATION:Three Brewers Pub\, 565 Kanata Ave\, Kanata\, Ontario\, K2T 1K5\, Canada
CATEGORIES:Pub Night
ATTACH;FMTTYPE=image/jpeg:https://arnpriorradiocontrolclub.com/wp-content/uploads/2019/12/692-scaled-e1576585391895.jpg
ORGANIZER;CN="Mike Ingham":MAILTO:oxenard@gmail.com
GEO:45.3100669;-75.9082407
X-APPLE-STRUCTURED-LOCATION;VALUE=URI;X-ADDRESS=Three Brewers Pub 565 Kanata Ave Kanata Ontario K2T 1K5 Canada;X-APPLE-RADIUS=500;X-TITLE=565 Kanata Ave:geo:-75.9082407,45.3100669
END:VEVENT
END:VCALENDAR